Workbook

Sheet Budget_analytique
B2: NE REMPLIR QUE LES CELLULES BLANCHES
B4: Budget Prévisionnel | G4: Budget Réalisé
B5: 2027 | G5: =IF(B5="","",B5) -> 2027
B6: Nom du porteur | G6: Nom du porteur | H6: =IF(C6="","",C6)
B7: Nom de l’action | G7: Nom de l’action | H7: =IF(C7="","",C7)
B8: Nombre de session | D8: Nombre de séance par session | G8: Nombre de session | H8: 1 | I8: Nombre de séance par session | J8: 1
B9: Nombre d’heure par séance | D9: Total d’heures pour l’action | E9: =E8*C9*C8 -> 0 | G9: Nombre d’heure par séance | H9: 1 | I9: Total d’heures pour l’action | J9: =J8*H9*H8 -> 1
B10: Montant de la demande initiale | G10: Montant de la demande initiale | H10: =C10 -> 0
B12: Budget intervenant·e·s | G12: Budget intervenant·e·s
B13: Détailler la nature des dépenses prévisionnelles | C13: Ressources externes | D13: Ressources externes | E13: Ressources externes | G13: Détailler la nature des dépenses prévisionnelles | H13: Ressources externes | I13: Ressources externes | J13: Ressources externes
B14: Nom et fonction de l’intervenant | G14: Nom et fonction de l’intervenant
B15: Nombre d’intervenant·e·s | G15: Nombre d’intervenant·e·s
B16: Nombre d’heures/intervenant·e·s | G16: Nombre d’heures/intervenant·e·s
B17: Coût horaire/ intervenant·e | G17: Coût horaire/ intervenant·e
B18: Total par ressources intervenant·e | C18: =C15*C16*C17 -> 0 | D18: =D15*D16*D17 -> 0 | E18: =E15*E16*E17 -> 0 | G18: Total par ressources intervenant·e | H18: =H15*H16*H17 -> 0 | I18: =I15*I16*I17 -> 0 | J18: =J15*J16*J17 -> 0
B19: Détailler la nature des dépenses prévisionnelles | C19: Ressources externes | D19: Ressources externes | E19: Ressources externes | G19: Détailler la nature des dépenses prévisionnelles | H19: Ressources externes | I19: Ressources externes | J19: Ressources externes
B20: Nom et fonction de l’intervenant | G20: Nom et fonction de l’intervenant
B21: Nombre d’intervenant·e·s | G21: Nombre d’intervenant·e·s
B22: Nombre d’heures/intervenant·e·s | F22: Ventilation Budget intervenant·e·s | G22: Nombre d’heures/intervenant·e·s | K22: Ventilation Budget intervenant·e·s
B23: Coût horaire/ intervenant·e | F23: Ressources externes | G23: Coût horaire/ intervenant·e | K23: Ressources externes
B24: Total par ressources intervenant·e | C24: =C21*C22*C23 -> 0 | D24: =D21*D22*D23 -> 0 | E24: =E21*E22*E23 -> 0 | F24: =SUMIF(C13:E13,liste_déroulante!D2,C18:E18)+SUMIF(C19:E19,liste_déroulante!D2,C24:E24) -> 0 | G24: Total par ressources intervenant·e | H24: =H21*H22*H23 -> 0 | I24: =I21*I22*I23 -> 0 | J24: =J21*J22*J23 -> 0 | K24: =SUMIF(H13:J13,liste_déroulante!D2,H18:J18)+SUMIF(H19:J19,liste_déroulante!D2,H24:J24) -> 0
B25: Total dépenses intervenants et bénévoles | C25: =F24+F26 -> 0 | E25: =SUMIF(C13:E13,liste_déroulante!D3,C18:E18)+SUMIF(C19:E19,liste_déroulante!D3,C24:E24) -> 0 | F25: Ressources internes | G25: Total dépenses intervenants et bénévoles | H25: =K24+K26 -> 0 | J25: =SUMIF(H13:J13,liste_déroulante!D3,H18:J18)+SUMIF(H19:J19,liste_déroulante!D3,H24:J24) -> 0 | K25: Ressources internes
B26: Total dépenses | C26: =C25+E25 -> 0 | F26: =SUMIF(C13:E13,liste_déroulante!D1,C18:E18)+SUMIF(C19:E19,liste_déroulante!D1,C24:E24) -> 0 | G26: Total dépenses | H26: =H25+J25 -> 0 | K26: =SUMIF(H13:J13,liste_déroulante!D1,H18:J18)+SUMIF(H19:J19,liste_déroulante!D1,H24:J24) -> 0
B27: COFINANCEMENT | E27: =E25 -> 0 | F27: bénévoles | G27: COFINANCEMENT | J27: =J25 -> 0 | K27: bénévoles
B28: Part de financement CFPPA | C28: =C26-C27-E27 -> 0 | F28: =SUMIF(C13:E13,liste_déroulante!D3,C18:E18)+SUMIF(C19:E19,liste_déroulante!D3,C24:E24) -> 0 | G28: Part de financement CFPPA | H28: =H26-H27-J27 -> 0 | K28: =SUMIF(H13:J13,liste_déroulante!D3,H18:J18)+SUMIF(H19:J19,liste_déroulante!D3,H24:J24) -> 0
B29: Budget déplacement Intervenant | G29: Budget déplacement Intervenant
B30: Détailler la nature des dépenses prévisionnelles | C30: Ressources externes | D30: Ressources externes | E30: Ressources externes | G30: Détailler la nature des dépenses prévisionnelles | H30: Ressources externes | I30: Ressources externes | J30: Ressources externes
B31: Nom et fonction de l’intervenant | G31: Nom et fonction de l’intervenant
B32: Nombre de kilomètres / séance (détailler si nécessaire par lieu d’intervention) | G32: Nombre de kilomètres / séance (détailler si nécessaire par lieu d’intervention)
B33: Coût du kilomètre (ajustement) | G33: Coût du kilomètre (ajustement)
B34: Coût des repas | G34: repas
B35: Frais d’autoroute | G35: Frais d’autoroute
B36: Total frais de déplacements | C36: =C32*C33+C34+C35 -> 0 | D36: =D32*D33+D34+D35 -> 0 | E36: =E32*E33+E34+E35 -> 0 | G36: Total frais de déplacements | H36: =H32*H33+H34+H35 -> 0 | I36: =I32*I33+I34+I35 -> 0 | J36: =J32*J33+J34+J35 -> 0
B37: Détailler la nature des dépenses prévisionnelles | C37: Ressources externes | D37: Ressources externes | E37: Ressources externes | G37: Détailler la nature des dépenses prévisionnelles | H37: Ressources externes | I37: Ressources externes | J37: Ressources externes
B38: Nom et fonction de l’intervenant | G38: Nom et fonction de l’intervenant
B39: Nombre de kilomètres / séance (détailler si nécessaire par lieu d’intervention) | G39: Nombre de kilomètres / séance (détailler si nécessaire par lieu d’intervention)
B40: Coût du kilomètre (ajustement) | F40: Ventilation Budget déplacement Intervenant | G40: Coût du kilomètre (ajustement) | K40: Ventilation Budget déplacement Intervenant
B41: repas | F41: Ressources externes | G41: repas | K41: Ressources externes
B42: Frais d’autoroute | F42: =SUMIF(C30:E30,liste_déroulante!D2,C36:E36)+SUMIF(C37:E37,liste_déroulante!D2,C43:E43) -> 0 | G42: Frais d’autoroute | K42: =SUMIF(H30:J30,liste_déroulante!D2,H36:J36)+SUMIF(H37:J37,liste_déroulante!D2,H43:J43) -> 0
B43: Total frais de déplacements | C43: =C39*C40+C41+C42 -> 0 | D43: =D39*D40+D41+D42 -> 0 | E43: =E39*E40+E41+E42 -> 0 | F43: Ressources internes | G43: Total frais de déplacements | H43: =H39*H40+H41+H42 -> 0 | I43: =I39*I40+I41+I42 -> 0 | J43: =J39*J40+J41+J42 -> 0 | K43: Ressources internes
...

Sheet CERFA
B1: ASSOCIATIONS DEMANDE DE SUBVENTION(S) Formulaire unique N°12156*06 Loi n° 2000-321 du 12 avril 2000 relative aux droits des citoyens dans leurs relations avec les administrations art. 9-1, 10 et 10-1 Décret n° 2016-1971 du 28 décembre 2016 BUDGET DU PROJET
B2: Exercice : | C2: =Budget_analytique!B5 -> 2027
B3: CHARGES | C3: Prévision | D3: Réalisation | E3: % | F3: PRODUITS | G3: Prévision | H3: Réalisation | I3: %
B4: Charges directes affectées à l'action | F4: Ressources directes affectées l'action
B5: 60.Achat | C5: =SUM(C6:C8) -> 0 | D5: =SUM(D6:D8) -> 0 | E5: =IF(OR(D5="",C5=0),"",D5/C5) | F5: 70. Vente de marchandises, Produits finis,prestations service | G5: =SUM(G6) -> 0 | H5: =SUM(H6) -> 0 | I5: =IF(OR(H5="",G5=0),"",H5/G5)
B6: Prestations de services | C6: =Budget_analytique!D50 -> 0 | D6: =Budget_analytique!$I$50 -> 0 | E6: =IF(OR(D6="",C6=0),"",D6/C6) | F6: autofinancement porteur | G6: =Budget_analytique!E121 -> 0 | H6: =Budget_analytique!F121 -> 0 | I6: =IF(OR(H6="",G6=0),"",H6/G6)
B7: Achat matières et fournitures | C7: =Budget_analytique!$C$59:$E$59-Budget_analytique!$D$50-Budget_analytique!$E$49 -> 0 | D7: =Budget_analytique!H59-Budget_analytique!I50-Budget_analytique!J49 -> 0 | E7: =IF(OR(D7="",C7=0),"",D7/C7) | F7: 74. Subventions d'exploitation | G7: =SUM(G8:G26) -> 0 | H7: =SUM(H8:H26) -> 0 | I7: =IF(OR(H7="",G7=0),"",H7/G7)
B8: Autres fournitures | C8: 0 | D8: 0 | E8: =IF(OR(D8="",C8=0),"",D8/C8) | F8: État : préciser le(s) ministère(s) | G8: =Budget_analytique!E123 -> 0 | H8: =Budget_analytique!F123 -> 0 | I8: =IF(OR(H8="",G8=0),"",H8/G8)
B9: 61. Services extérieurs | C9: =SUM(C10:C14) -> 0 | D9: =SUM(D10:D14) -> 0 | E9: =IF(OR(D9="",C9=0),"",D9/C9) | I9: =IF(OR(H9="",G9=0),"",H9/G9)
B10: Locations immobilières et mobilières | E10: =IF(OR(D10="",C10=0),"",D10/C10) | I10: =IF(OR(H10="",G10=0),"",H10/G10)
B11: Entretien et réparation | E11: =IF(OR(D11="",C11=0),"",D11/C11) | F11: Région (s): | G11: =Budget_analytique!E124 -> 0 | H11: =Budget_analytique!F124 -> 0 | I11: =IF(OR(H11="",G11=0),"",H11/G11)
B12: Assurance | E12: =IF(OR(D12="",C12=0),"",D12/C12) | I12: =IF(OR(H12="",G12=0),"",H12/G12)
B13: Documentation | E13: =IF(OR(D13="",C13=0),"",D13/C13) | F13: Département(s) : | G13: =Budget_analytique!E125 -> 0 | H13: =Budget_analytique!F125 -> 0 | I13: =IF(OR(H13="",G13=0),"",H13/G13)
B14: Divers | E14: =IF(OR(D14="",C14=0),"",D14/C14) | F14: CFPPA : | G14: =Budget_analytique!E126 -> 0 | H14: =Budget_analytique!F126 -> 0 | I14: =IF(OR(H14="",G14=0),"",H14/G14)
B15: 62.Autres services extérieurs | C15: =SUM(C16:C20) -> 0 | D15: =SUM(D16:D20) -> 0 | E15: =IF(OR(D15="",C15=0),"",D15/C15) | F15: intercommunalité(s): EPCI* | G15: =Budget_analytique!E127 -> 0 | H15: =Budget_analytique!F127 -> 0 | I15: =IF(OR(H15="",G15=0),"",H15/G15)
B16: Rémunérations intermédiaires | C16: =Budget_analytique!$F$24+Budget_analytique!$F$97 -> 0 | D16: =Budget_analytique!$K$24+Budget_analytique!$L$97 -> 0 | E16: =IF(OR(D16="",C16=0),"",D16/C16) | I16: =IF(OR(H16="",G16=0),"",H16/G16)
B17: et honoraires | E17: =IF(OR(D17="",C17=0),"",D17/C17) | I17: =IF(OR(H17="",G17=0),"",H17/G17)
B18: Publicité, publication | C18: =Budget_analytique!$F$73 -> 0 | D18: =Budget_analytique!K73 -> 0 | E18: =IF(OR(D18="",C18=0),"",D18/C18) | F18: Commune(s) | G18: =Budget_analytique!E128 -> 0 | H18: =Budget_analytique!F128 -> 0 | I18: =IF(OR(H18="",G18=0),"",H18/G18)
B19: Déplacements, missions | C19: =Budget_analytique!$F$42 -> 0 | D19: =Budget_analytique!$K$42 -> 0 | E19: =IF(OR(D19="",C19=0),"",D19/C19) | I19: =IF(OR(H19="",G19=0),"",H19/G19)
B20: Services bancaires, autres | E20: =IF(OR(D20="",C20=0),"",D20/C20) | F20: Organismes sociaux (détailler) | G20: =Budget_analytique!E129 -> 0 | H20: =Budget_analytique!F129 -> 0 | I20: =IF(OR(H20="",G20=0),"",H20/G20)
B21: 63. lmpots et taxes | C21: =SUM(C22:C23) -> 0 | D21: =SUM(D22:D23) -> 0 | E21: =IF(OR(D21="",C21=0),"",D21/C21) | I21: =IF(OR(H21="",G21=0),"",H21/G21)
B22: lmpots et taxes sur rémunération | E22: =IF(OR(D22="",C22=0),"",D22/C22) | F22: Fonds européens | G22: =Budget_analytique!E130 -> 0 | H22: =Budget_analytique!F130 -> 0 | I22: =IF(OR(H22="",G22=0),"",H22/G22)
B23: Autres impôts et taxes | E23: =IF(OR(D23="",C23=0),"",D23/C23) | I23: =IF(OR(H23="",G23=0),"",H23/G23)
B24: 64. Charges de personnel | C24: =SUM(C25:C27) -> 0 | D24: =SUM(D25:D27) -> 0 | E24: =IF(OR(D24="",C24=0),"",D24/C24) | F24: Agence de service et de paiement (emplois aides) | G24: =Budget_analytique!E131 -> 0 | H24: =Budget_analytique!F131 -> 0 | I24: =IF(OR(H24="",G24=0),"",H24/G24)
B25: Rémunération des personnels | C25: =Budget_analytique!$F$26+Budget_analytique!$F$75+Budget_analytique!$C$89:$E$89+Budget_analytique!$F$99 -> 0 | D25: =Budget_analytique!K26+Budget_analytique!K75+Budget_analytique!L99+Budget_analytique!H89 -> 0 | E25: =IF(OR(D25="",C25=0),"",D25/C25) | F25: Autres établissements publics | G25: =Budget_analytique!E132 -> 0 | H25: =Budget_analytique!F132 -> 0 | I25: =IF(OR(H25="",G25=0),"",H25/G25)
B26: Charges sociales | E26: =IF(OR(D26="",C26=0),"",D26/C26) | F26: Aides privées | G26: =Budget_analytique!E133 -> 0 | H26: =Budget_analytique!F133 -> 0 | I26: =IF(OR(H26="",G26=0),"",H26/G26)
B27: Autres charges de personnel | C27: =Budget_analytique!$F$44 -> 0 | D27: =Budget_analytique!$K$44 -> 0 | E27: =IF(OR(D27="",C27=0),"",D27/C27) | F27: 75.Autres produits de gestion courante | G27: =SUM(G28) -> 0 | H27: =Budget_analytique!F134 -> 0 | I27: =IF(OR(H27="",G27=0),"",H27/G27)
B28: 65.Autres charges de gestion courante | E28: =IF(OR(D28="",C28=0),"",D28/C28) | F28: Dont cotisations, dons manuels ou legs | G28: =Budget_analytique!E135 -> 0 | H28: =Budget_analytique!F135 -> 0 | I28: =IF(OR(H28="",G28=0),"",H28/G28)
B29: 66. Charges financières | E29: =IF(OR(D29="",C29=0),"",D29/C29) | F29: 76. Produits financiers | G29: =Budget_analytique!E136 -> 0 | H29: =Budget_analytique!F136 -> 0 | I29: =IF(OR(H29="",G29=0),"",H29/G29)
B30: 67. Charges exceptionnelles | E30: =IF(OR(D30="",C30=0),"",D30/C30) | F30: 78. Reports, ressources non utilisées d’opérations antérieures | G30: =Budget_analytique!E137 -> 0 | H30: =Budget_analytique!F137 -> 0 | I30: =IF(OR(H30="",G30=0),"",H30/G30)
B31: 68. Dotation aux amortissements | E31: =IF(OR(D31="",C31=0),"",D31/C31) | I31: =IF(OR(H31="",G31=0),"",H31/G31)
B32: Charges indirectes affectées a l'action
B33: Charges fixes de fonctionnement | C33: =Budget_analytique!$F$75+Budget_analytique!$C$89 -> 0 | D33: =Budget_analytique!$K$75+Budget_analytique!$H$89 -> 0 | E33: =IF(OR(D33="",C33=0),"",D33/C33) | I33: =IF(OR(H33="",G33=0),"",H33/G33)
B34: Frais financiers | E34: =IF(OR(D34="",C34=0),"",D34/C34) | I34: =IF(OR(H34="",G34=0),"",H34/G34)
B35: Autres | E35: =IF(OR(D35="",C35=0),"",D35/C35) | I35: =IF(OR(H35="",G35=0),"",H35/G35)
B36: Total des charges | C36: =C5+C9+C15+C21+C24+C28+C29+C30+C31++C33+C34+C35 -> 0 | D36: =D5+D9+D15+D21+D24+D28+D29+D30+D31++D33+D34+D35 -> 0 | E36: 0.6029 | F36: Total des produits | G36: =G5+G7+G27 -> 0 | H36: =H5+H7+H27 -> 0 | I36: =IF(OR(H36="",G36=0),"",H36/G36)
B37: CONTRIBUTIONS VOLONTAIRES
B38: 86. Emplois des contributions volontaires en nature | C38: =SUM(C39:C41) -> 0 | D38: =SUM(D39:D41) -> 0 | E38: =IF(OR(D38="",C38=0),"",D38/C38) | F38: 87. Contributions volontaires en nature | G38: =SUM(G39:G41) -> 0 | H38: =SUM(H39:H41) -> 0 | I38: =IF(OR(H38="",G38=0),"",H38/G38)
B39: Secours en nature | E39: =IF(OR(D39="",C39=0),"",D39/C39) | F39: Bénévolat | I39: =IF(OR(H39="",G39=0),"",H39/G39)
B40: Mise a disposition gratuite de biens et prestations | C40: =Budget_analytique!E49 -> 0 | D40: =Budget_analytique!J49 -> 0 | E40: =IF(OR(D40="",C40=0),"",D40/C40) | F40: Prestations en nature | G40: =Budget_analytique!$F$61 -> 0 | H40: =Budget_analytique!$F$61 -> 0 | I40: =IF(OR(H40="",G40=0),"",H40/G40)
...

Sheet liste_déroulante
D1: Ressources internes | F1: Prestataire
D2: Ressources externes
D3: Bénévole
